BEGIN:VCALENDAR
PRODID:-//eluceo/ical//2.0/EN
VERSION:2.0
CALSCALE:GREGORIAN
BEGIN:VEVENT
UID:508037ce529546692a2d09da0e72933a
DTSTAMP:20260423T150133Z
SUMMARY:Ochrana duševního vlastnictví při exportu
DESCRIPTION:Název akce: Ochrana duševního vlastnictví při exportu\nURL
 : https://www.spcr.cz/ochrana-dusevniho-vlastnictvi-pri-exportu\nPopis: \n
 \nDovolujeme si Vás pozvat na online seminář pořádáný agenturou Cze
 chTrade\, kde se dozvíte\, co patří mezi základy ochrany duševního v
 lastnictví\, které musí úspěšný podnikatel znát. \nBližší info
 rmace a možnost bezplatné registrace k dispozici zde.\n
URL:https://www.spcr.cz/ochrana-dusevniho-vlastnictvi-pri-exportu
DTSTART:20210331T140000
DTEND:20210331T153000
LOCATION:
END:VEVENT
END:VCALENDAR
