BEGIN:VCALENDAR
PRODID:-//eluceo/ical//2.0/EN
VERSION:2.0
CALSCALE:GREGORIAN
BEGIN:VEVENT
UID:9962e2c7816c35d8b2d30e52c97590e3
DTSTAMP:20260423T125940Z
SUMMARY:Online seminář: Virtuální realita ve službách exportérů
DESCRIPTION:Název akce: Online seminář: Virtuální realita ve službác
 h exportérů\nURL: https://www.spcr.cz/online-seminar-virtualni-realita-v
 e-sluzbach-exporteru\nPopis: \n\nDovolujeme si Vás pozvat na online semin
 ář pořádáný agenturou CzechTrade\, který má ambici zpřístupnit s
 rozumitelnou formou problematiku technologií virtuální a rozšířené 
 reality (VR/AR) a jejich využití pro marketing a obchod co nejširšímu
  okruhu českých exportérů\nAnotace:\n\nPředstavení digitální knih
 ovny českého průmyslu.\nJaké jsou aktuální možnosti a trendy v tech
 nologiích AR/VR?\nJaký mají potenciál virtuální veletrhy a online s
 etkávání s obchodními partnery do budoucna?\n\nBližší informace a m
 ožnost bezplatné registrace k dispozici zde. \n
URL:https://www.spcr.cz/online-seminar-virtualni-realita-ve-sluzbach-export
 eru
DTSTART:20210325T100000
DTEND:20210325T120000
LOCATION:
END:VEVENT
END:VCALENDAR
