BEGIN:VCALENDAR
PRODID:-//eluceo/ical//2.0/EN
VERSION:2.0
CALSCALE:GREGORIAN
BEGIN:VEVENT
UID:43d0d42545a49dabbd14586137d3c708
DTSTAMP:20260423T130319Z
SUMMARY:Zaměstnávání cizinců v ČR v návaznosti na COVID-19
DESCRIPTION:Název akce: Zaměstnávání cizinců v ČR v návaznosti na C
 OVID-19\nURL: https://www.spcr.cz/zamestnavani-cizincu-v-cr-v-navaznosti-n
 a-covid-19-0\nPopis: \n\nMinisterstvo průmyslu a obchodu ve spolupráci s
  resorty vnitra\, zahraničních věcí a práce a sociálních věcí vá
 s zve na webinář „Zaměstnávání cizinců v ČR v návaznosti na COV
 ID-19“\, který se uskuteční dne 19. března 2021 v čase od 9:00 do 1
 2:30 hod. prostřednictvím online platformy Microsoft Teams.\nCílem webi
 náře je poskytnout potřebné informace o aktuální situaci a nejnověj
 ších změnách v oblasti ekonomické migrace v návaznosti na COVID-19. 
 Představíme rovněž změny v programech ekonomické migrace zaměřený
 ch na klíčové a vysoce kvalifikované pracovníky\, ke kterým došlo o
 d 1. února 2021.\n\nPodrobný program zde\nRegistrace probíhá vyplněn
 ím registračního formuláře na webu MPO do 18. břena 2021. Přihlá
 šeným účastníkům bude následně zaslán link\, jehož prostřednict
 vím se budou moci v den konání webináře připojit ke schůzce v aplik
 aci Microsoft Teams.\n
URL:https://www.spcr.cz/zamestnavani-cizincu-v-cr-v-navaznosti-na-covid-19-
 0
DTSTART:20210319T090000
DTEND:20210319T123000
LOCATION:
END:VEVENT
END:VCALENDAR
