BEGIN:VCALENDAR
PRODID:-//eluceo/ical//2.0/EN
VERSION:2.0
CALSCALE:GREGORIAN
BEGIN:VEVENT
UID:e9a36ddfd509281d18239e679e9cfce1
DTSTAMP:20260423T125219Z
SUMMARY:EU-Taiwan Supply Chains Forum - online
DESCRIPTION:Název akce: EU-Taiwan Supply Chains Forum - online\nURL: https
 ://www.spcr.cz/eu-taiwan-supply-chains-forum-online-0\nPopis: \n\nTchajpej
 ská hospodářská a kulturní kanceláře zve na forum\, které proběhn
 e ve středu 10. března 2021 od 9:00 do 11:00 h (CET).\nFórum je poř
 ádáno ve spolupráci Evropského institutu pro asijská studia (EIAS) a 
 Čínské asociace pro mezinárodní hospodářskou spolupráci Taiwanu (C
 IECA).\nProgram se bude věnovat dodavatelským řetězcům mezi EU a Taiw
 anem a jejich možnostech pro rozvoj a udržitelnost.\nPro více informac
 í prosím nahlédněte do dokumentu zde.\nV případě zájmu se k úča
 sti můžete registrovat na webových stránkách https://www.eventbrite.
 com/e/eu-taiwan-supply-chains-forum-registration-142143784887\nBudete-li m
 ít jakékoli otázky\, neváhejte se obrátit na:Lenka HOBLÍKOVÁEconomi
 c Division\, Taipei Economic and Cultural OfficeZastupitelství Tchaj-wanu
  v České republiceEvropská 2590/33c\, 160 00 Praha 6Tel.: +420 233 32
 2 415cztwec01@moea.gov.tw\, cztwec01@gmail.com\n
URL:https://www.spcr.cz/eu-taiwan-supply-chains-forum-online-0
DTSTART:20210310T090000
DTEND:20210310T110000
LOCATION:
END:VEVENT
END:VCALENDAR
