BEGIN:VCALENDAR
PRODID:-//eluceo/ical//2.0/EN
VERSION:2.0
CALSCALE:GREGORIAN
BEGIN:VEVENT
UID:a61a25df384f3cac1ca297ed1cfd7631
DTSTAMP:20260423T125029Z
SUMMARY:Online veletrh Kariéra+
DESCRIPTION:Název akce: Online veletrh Kariéra+\nURL: https://www.spcr.cz
 /online-veletrh-kariera\nPopis: \n\nNa co se můžete těšit?+ více než
  50 zaměstnavatelů ++ zábavné 3D herní prostředí ++ inspirativní p
 řednášky ++ kariérní poradenství ++ firemní prezentace ++ soutěže
  +\nRegistrace a podrobnosti k veletrhu zde.\nBěhem 3 dnů budete mít je
 dinečnou šanci oslovit na jednom místě množství zaměstnavatelů. Vy
 berte si svého avatara a domluvte si práci\, brigádu\, trainee program\
 , stáž nebo spolupráci na diplomové nebo bakalářské práci!\nAkce j
 e zdarma a je určena pro studenty\, absolventy i širokou veřejnost. Onl
 ine veletrh pracovních příležitostí pro vás organizuje Kariérní ce
 ntrum VŠB-TUO.\nSvaz průmyslu a dopravy poskytl veletrhu záštitu.\n
URL:https://www.spcr.cz/online-veletrh-kariera
DTSTART:20210310T090000
DTEND:20210312T150000
LOCATION:
END:VEVENT
END:VCALENDAR
