BEGIN:VCALENDAR
PRODID:-//eluceo/ical//2.0/EN
VERSION:2.0
CALSCALE:GREGORIAN
BEGIN:VEVENT
UID:ee59c2a1472f4b6eae9a0ac19d47342d
DTSTAMP:20260423T162951Z
SUMMARY:Multioborový veletrh v iráckém Erbílu - oficiální účast ČR
DESCRIPTION:Název akce: Multioborový veletrh v iráckém Erbílu - ofici
 ální účast ČR\nURL: https://www.spcr.cz/multioborovy-veletrh-v-iracke
 m-erbilu-oficialni-ucast-cr-0\nPopis: \n\nOd 20. do 23. září 2021 se v 
 iráckém Erbílu uskuteční 14. ročník multioborového veletrhu Erbil 
 International Fair. Akce je nejvýznamnější mezinárodní výstava v re
 gionu iráckého Kurdistánu a letos byla podpořena Ministerstvem průmy
 slu a obchodu ČR formou české oficiální účasti. Firmy tak zde mohou
  vystavovat za finančně zvýhodněných podmínek.\nVeletrh v Erbílu je
  multisektorovou platformu pro výrobní firmy\, investory i dodavatele na
 příč průmyslovým spektrem. Akce je mezinárodního formátu a při po
 sledním ročníku v roce 2019 se jí účastnilo 217 vystavovatelů ze 1
 4 zemí světa. Zastoupení zde mělo i 7 českých firem\, dalších 7 sp
 olečností se veletrhu účastnilo prostřednictvím katalogové prezenta
 ce\, kterou pořádal Svaz průmyslu a dopravy a přidružená Česko-irá
 cká podnikatelská rada. Veletrh navštívilo více než 9000 návštěvn
 íků z Iráku i zahraničí.\nLetošní ročník výstavy získal zášt
 itu od Ministerstva průmyslu a obchodu a byl zařazen do programu oficiá
 lní účasti ČR v rámci kategorie B. Pro vystavovatele tak MPO zajistí
  společnou expozici\, nákup výstavní plochy\, stavbu stánku či dopro
 vodnou propagaci.\nV případě Vašeho zájmu o účast ve společné ex
 pozici prosím zašlete níže uvedenou přihlášku na adresu: MPO ČR\, 
 odbor řízení exportní strategie\, Na Františku 32\, 110 15 Praha 1.\n
 Více informací je možno nalézt na tomto odkazu.\n
URL:https://www.spcr.cz/multioborovy-veletrh-v-irackem-erbilu-oficialni-uca
 st-cr-0
DTSTART:20210920T080000
DTEND:20210923T235959
LOCATION:
END:VEVENT
END:VCALENDAR
