BEGIN:VCALENDAR
PRODID:-//eluceo/ical//2.0/EN
VERSION:2.0
CALSCALE:GREGORIAN
BEGIN:VEVENT
UID:473c929d880d20ac344dc3b9362a0de0
DTSTAMP:20260423T125837Z
SUMMARY:Webinar: Doing Business with Northern Ireland
DESCRIPTION:Název akce: Webinar: Doing Business with Northern Ireland\nURL
 : https://www.spcr.cz/webinar-doing-business-northern-ireland\nPopis: \n\n
 How EU Businesses can Continue to Trade in Goods with Northern Ireland\nRe
 scheduled Date - Monday\, 1 March 2021\, 15:00 - 16:00 CET\nThe Office of 
 the Northern Ireland Executive in Brussels is pleased to invite you to a p
 anel discussion with Giulia Ni Dhulchaointigh from the Northern Ireland De
 partment for the Economy\, and Steve Harper from Invest Northern Ireland. 
 The panel discussion will outline how EU businesses can still trade in goo
 ds with Northern Ireland within the Single Market\, and the practical real
 ities of trade between NI and EU under the Protocol.\nThe panel will be ch
 aired by Lynsey Moore\, Director of Northern Ireland Executive Brussels Of
 fice. Officials from the Department for Agriculture\, Environment and Rura
 l Affairs will also join the panel.\nThis will be a roundtable discussion 
 by invitation only and we would like to invite you or your organisation to
  send a representative to give your perspective.\nTo participate in the di
 scussion please send an email to:  BrusselsEvents@executiveoffice-ni.gov
 .uk\n \n
URL:https://www.spcr.cz/webinar-doing-business-northern-ireland
DTSTART:20210301T150000
DTEND:20210301T170000
LOCATION:
END:VEVENT
END:VCALENDAR
