BEGIN:VCALENDAR
PRODID:-//eluceo/ical//2.0/EN
VERSION:2.0
CALSCALE:GREGORIAN
BEGIN:VEVENT
UID:525c5ff8ad11c202a3cfdc02cbab697c
DTSTAMP:20260423T130528Z
SUMMARY:Webinar: Invest in Indonesia: Opportunities in Asia’s Economic Po
 werhouse
DESCRIPTION:Název akce: Webinar: Invest in Indonesia: Opportunities in Asi
 a’s Economic Powerhouse\nURL: https://www.spcr.cz/webinar-invest-indones
 ia-opportunities-asias-economic-powerhouse\nPopis: \n\nDuring the event\, 
 you will hear from highly respected members of President Joko Widodo's Cab
 inet\, on how his Government is encouraging more Foreign Direct Investment
  (FDI)\; and you will also receive invaluable insights from seasoned membe
 rs of the private sector.\nFor registration\, please visit the link below:
 \nhttps://docs.google.com/forms/d/e/1FAIpQLSdDto9OLuoD3UQCXn4JsgDMz_b6dBEH
 oOGVfyDMbf5yPSgdrQ/viewform\n
URL:https://www.spcr.cz/webinar-invest-indonesia-opportunities-asias-econom
 ic-powerhouse
DTSTART:20210225T100000
DTEND:20210225T120000
LOCATION:
END:VEVENT
END:VCALENDAR
