BEGIN:VCALENDAR
PRODID:-//eluceo/ical//2.0/EN
VERSION:2.0
CALSCALE:GREGORIAN
BEGIN:VEVENT
UID:6a952be2bebd7e031bbc0ec80e6360fd
DTSTAMP:20260423T145950Z
SUMMARY:Webinář o příležitostech pro české firmy na Ukrajině
DESCRIPTION:Název akce: Webinář o příležitostech pro české firmy na
  Ukrajině\nURL: https://www.spcr.cz/webinar-o-prilezitostech-pro-ceske-fi
 rmy-na-ukrajine\nPopis: \n\nMinisterstvo zahraničních věcí ČR připra
 vilo webinář s ekonomickými diplomaty velvyslanectví České republiky
  v Kyjevě a Generálního konzulátu ve Lvově. Webinář se bude konat v
  úterý 23. února 2021 v 10:00 hodin SEČ.\nNa webináři vystoupí ekon
 omičtí diplomaté české ambasády v Kyjevě František Trojáček a ge
 nerálního konzulátu ve Lvově Vladimír Kadlec a zprostředkují vám i
 nformace o konkrétních obchodních příležitostech\, perspektivních o
 borech podnikání\, kultuře obchodního jednání a také aktuální inf
 ormace v souvislosti s šířením koronaviru.\nSledování webináře je 
 zdarma po předchozí registraci.\nRegistrace\n
URL:https://www.spcr.cz/webinar-o-prilezitostech-pro-ceske-firmy-na-ukrajin
 e
DTSTART:20210223T100000
DTEND:20210223T120000
LOCATION:
END:VEVENT
END:VCALENDAR
