BEGIN:VCALENDAR
PRODID:-//eluceo/ical//2.0/EN
VERSION:2.0
CALSCALE:GREGORIAN
BEGIN:VEVENT
UID:cb3fb306643dc5c680ca97fe7cd67513
DTSTAMP:20260423T150245Z
SUMMARY:Webinar on CETA & intellectual property rights 
DESCRIPTION:Název akce: Webinar on CETA & intellectual property rights \nU
 RL: https://www.spcr.cz/webinar-ceta-intellectual-property-rights\nPopis: 
 \n\nThe CETA Program\, funded and led by the European Union and designed t
 o support EU market access into Canada\, will organise a webinar on CETA &
  intellectual property rights on February 17th at 4 pm CET.  The registrat
 ion link and further information on the webinar can be found here: https:/
 /register.gotowebinar.com/register/6907661323519742731\n
URL:https://www.spcr.cz/webinar-ceta-intellectual-property-rights
DTSTART:20210217T160000
DTEND:20210217T170000
LOCATION:
END:VEVENT
END:VCALENDAR
