BEGIN:VCALENDAR
PRODID:-//eluceo/ical//2.0/EN
VERSION:2.0
CALSCALE:GREGORIAN
BEGIN:VEVENT
UID:ab4e428bf0f17352e1bd0a631ee3265a
DTSTAMP:20260423T213520Z
SUMMARY:Umělá inteligence a blockchainové technologie ve výrobních pro
 cesech
DESCRIPTION:Název akce: Umělá inteligence a blockchainové technologie v
 e výrobních procesech\nURL: https://www.spcr.cz/umela-inteligence-blockc
 hainove-technologie-ve-vyrobnich-procesech\nPopis: \n\nWebinář k tématu
  výhod umělé inteligence a blockchainové technologie ve výrobních pr
 ocesech je pro určen pro firmy\, které zajímají současné trendy a mo
 derní technologie s cílem dosáhnout efektivní transformace výrobních
  procesů z analogové do digitální podoby.\nWebinář se koná 16. 02. 
 2021 od 10h v aplikaci ZOOM. Účast je bezplatná\, je pouze podmíněná
  registrací\, po které obdržíte odkaz k přihlášení.\nAkce je urče
 ná zejména (ne však pouze) pro správce jednotlivých procesů ve firm
 ách.\nVíce informací najdete zde.\nV případě jakýchkoli dotazů\, k
 ontaktujte Ladislava Sojku z Elektrotechnické asociace ČR: sojka@electro
 industry.cz\, 736 255 657.\n
URL:https://www.spcr.cz/umela-inteligence-blockchainove-technologie-ve-vyro
 bnich-procesech
DTSTART:20210216T100000
DTEND:20210216T130000
LOCATION:
END:VEVENT
END:VCALENDAR
