BEGIN:VCALENDAR
PRODID:-//eluceo/ical//2.0/EN
VERSION:2.0
CALSCALE:GREGORIAN
BEGIN:VEVENT
UID:6563b41df9c6f44a542ad7a5cf14de6c
DTSTAMP:20260423T163124Z
SUMMARY:Webinář o obchodních příležitostech v Malajsii a Indonésii 
DESCRIPTION:Název akce: Webinář o obchodních příležitostech v Malajs
 ii a Indonésii \nURL: https://www.spcr.cz/webinar-o-obchodnich-prilezitos
 tech-v-malajsii-indonesii\nPopis: \n\nMinisterstvo zahraničních věcí 
 České republiky pro vás připravilo webinář s ekonomickými diplomaty
  českých ambasád v Malajsii a Indonésii\, který se uskuteční ve čt
 vrtek 18. února 2021 v 9:00 hodin SEČ. \nNa webináři vystoupí ekonom
 ičtí diplomaté české ambasády v Kuala Lumpur\, Renata Brandstättero
 vá a Lenka Tomanová a v Jakartě\, Jakub Černý a zprostředkují Vám 
 informace o konkrétních obchodních příležitostech\, perspektivních 
 oborech podnikání\, kultuře obchodního jednání a také aktuální in
 formace v souvislosti s pademií.\nPandemie covid-19 způsobila útlum ně
 kterých oborů\, jako například cestovní ruch\, hotelnictví\, provoz 
 restaurací a kaváren nebo letecká doprava. Naproti tomu obory ICT\, zdr
 avotnictví\, digitalizace či „zelené“ technologie jsou na vzestupu 
 a představují příležitosti pro soukromý sektor. Nenechte si ujít sl
 edování webinářů s ekonomickými diplomaty českých ambasád v zahra
 ničí o konkrétních příležitostech a perspektivních sektorech v zem
 i jejich působení. \nSledování webináře je zdarma po předchozí re
 gistraci.\nRegistrace\n
URL:https://www.spcr.cz/webinar-o-obchodnich-prilezitostech-v-malajsii-indo
 nesii
DTSTART:20210218T090000
DTEND:20210218T100000
LOCATION:
END:VEVENT
END:VCALENDAR
