BEGIN:VCALENDAR
PRODID:-//eluceo/ical//2.0/EN
VERSION:2.0
CALSCALE:GREGORIAN
BEGIN:VEVENT
UID:59d5f03b333f3261fa36f0ab5b3b0913
DTSTAMP:20260423T150144Z
SUMMARY:Webinář o obchodních příležitostech v Srbsku
DESCRIPTION:Název akce: Webinář o obchodních příležitostech v Srbsku
 \nURL: https://www.spcr.cz/webinar-o-obchodnich-prilezitostech-v-srbsku\nP
 opis: \n\nZveme Vás na webinář s ekonomickým diplomatem Velvyslanectv
 í ČR v Bělehradě.\nVíce informací a registrace: Srbsko - webinář o
  příležitostech pro české firmy (export.cz).\n
URL:https://www.spcr.cz/webinar-o-obchodnich-prilezitostech-v-srbsku
DTSTART:20210310T100000
DTEND:20210310T113000
LOCATION:
END:VEVENT
END:VCALENDAR
