BEGIN:VCALENDAR
PRODID:-//eluceo/ical//2.0/EN
VERSION:2.0
CALSCALE:GREGORIAN
BEGIN:VEVENT
UID:3f13aa909f2135801ad0b099de102282
DTSTAMP:20260423T213536Z
SUMMARY:Webinář o obchodních příležitostech v Argentině a Chile 
DESCRIPTION:Název akce: Webinář o obchodních příležitostech v Argent
 ině a Chile \nURL: https://www.spcr.cz/webinar-o-obchodnich-prilezitostec
 h-v-argentine-chile\nPopis: \n\nZveme Vás na webinář s ekonomickými di
 plomaty Velvyslanectví ČR v Buenos Aires a Santiago de Chile \nVíce in
 formací a registrace: https://www.export.cz/akce/argentina-chile/\n
URL:https://www.spcr.cz/webinar-o-obchodnich-prilezitostech-v-argentine-chi
 le
DTSTART:20210225T140000
DTEND:20210225T153000
LOCATION:
END:VEVENT
END:VCALENDAR
