BEGIN:VCALENDAR
PRODID:-//eluceo/ical//2.0/EN
VERSION:2.0
CALSCALE:GREGORIAN
BEGIN:VEVENT
UID:bb576501df167707a0d066f4407f41fe
DTSTAMP:20260423T130350Z
SUMMARY:B2B jednání s indickými firmami v digitálním průmyslu
DESCRIPTION:Název akce: B2B jednání s indickými firmami v digitálním 
 průmyslu\nURL: https://www.spcr.cz/b2b-jednani-s-indickymi-firmami-v-digi
 talnim-prumyslu-0\nPopis: \n\nOd 23. do 24. února se uskuteční B2B jedn
 ání India-Europe Digital Collaboration mezi evropskými a indickými f
 irmami v oblasti digitálních technologiích. Mezinárodní síť Enterpr
 ise Europe Network ve spolupráci s indickými agenturami na podporu mezin
 árodního obchodu NASSCOM a GBI pořádají virtuální seminář\, na kt
 erém budou moci české a evropské firmy navázat kontakt s ponteciáln
 ími partnery v Indii.\nB2B jednání je určeno pro firmy z různých pr
 ůmyslových sektorů s vazbou na digitální technologie jako automobilov
 ý průmysl\, energetika\, vodohospodářství\, potravinářství\, letec
 tví či zdravotnictví. Na indické straně se virtuálního setkání z
 účastní firmy\, které se věnují vývoji (průmyslu 4.0)\, umělé in
 teligenci\, internetu věcí\, blockchainu\, automatizaci\, oblasti big da
 ta ad.\nÚčast na jednání je zdarma. Registrovat se je možné do 12. 
 února na tomto odkazu. V registraci je vhodné uvést typ požadované 
 spolupráce\, na jejím základě organizátor přiřadí účastníkům r
 elevatní protějšky k jednání.\nVíce informací je k dispozici v př
 iložené pozvánce.\n
URL:https://www.spcr.cz/b2b-jednani-s-indickymi-firmami-v-digitalnim-prumys
 lu-0
DTSTART:20210223T080000
DTEND:20210224T170000
LOCATION:
END:VEVENT
END:VCALENDAR
