BEGIN:VCALENDAR
PRODID:-//eluceo/ical//2.0/EN
VERSION:2.0
CALSCALE:GREGORIAN
BEGIN:VEVENT
UID:268831f665852ac7d05091fddec23b1c
DTSTAMP:20260423T130810Z
SUMMARY:ONLINE SEMINÁŘ: Současná situace a vývoj v Chile – možnosti
  uplatnění českého exportu
DESCRIPTION:Název akce: ONLINE SEMINÁŘ: Současná situace a vývoj v Ch
 ile – možnosti uplatnění českého exportu\nURL: https://www.spcr.cz/
 online-seminar-soucasna-situace-vyvoj-v-chile-moznosti-uplatneni-ceskeho-e
 xportu\nPopis: \n\nZveme vás na exportní online seminář pořádaný ag
 enturou Czech Trade. Jiří Jílek\, ředitel regionálního centra Latin
 ská Amerika a vedoucí zahraniční kanceláře CzechTrade v Santiago de 
 Chile\, přinese českým exportérům se zájmem o chilský trh užite
 čné informace a perspektivy.\nLink pro více informací a přihlášen
 í\n
URL:https://www.spcr.cz/online-seminar-soucasna-situace-vyvoj-v-chile-mozno
 sti-uplatneni-ceskeho-exportu
DTSTART:20210224T140000
DTEND:20210224T153000
LOCATION:
END:VEVENT
END:VCALENDAR
