BEGIN:VCALENDAR
PRODID:-//eluceo/ical//2.0/EN
VERSION:2.0
CALSCALE:GREGORIAN
BEGIN:VEVENT
UID:14fe32d2f836b27bee151f28ce461bbc
DTSTAMP:20260423T125536Z
SUMMARY:Online seminář: Možnosti expanze do CHORVATSKA a SRBSKA
DESCRIPTION:Název akce: Online seminář: Možnosti expanze do CHORVATSKA 
 a SRBSKA\nURL: https://www.spcr.cz/online-seminar-moznosti-expanze-do-chor
 vatska-srbska\nPopis: \n\nZveme vás na exportní online seminář pořád
 aný agenturou Czech Trade. Alen Novosad\, ředitel zahraniční kancelá
 ře CzechTrade v Chorvatsku a Martin Šmejc\, ředitel zahraniční kance
 láře CzechTrade v Srbsku\, přinesou praktické informace o budoucích 
 obchodních příležitostech pro české exportéry.\nLink pro více info
 rmací a přihlášení\n
URL:https://www.spcr.cz/online-seminar-moznosti-expanze-do-chorvatska-srbsk
 a
DTSTART:20210223T140000
DTEND:20210223T153000
LOCATION:
END:VEVENT
END:VCALENDAR
