BEGIN:VCALENDAR
PRODID:-//eluceo/ical//2.0/EN
VERSION:2.0
CALSCALE:GREGORIAN
BEGIN:VEVENT
UID:18f30140d5d958d1ba0797dc25ad2784
DTSTAMP:20260423T124856Z
SUMMARY:Webinář: CETA - pravidla původu
DESCRIPTION:Název akce: Webinář: CETA - pravidla původu\nURL: https://w
 ww.spcr.cz/webinar-ceta-pravidla-puvodu\nPopis: \n\nPravidla původu zaji
 šťují\, aby preferenční celní sazby CETA byly prospěšné pro evrop
 skou a kanadskou produkci. Aby bylo možné preferenčních celních sazeb
  využít\, musí evropští obchodníci dodržovat pravidla původu dle 
 dohody CETA. Více se o tom dozvíte na webináři. Fredrik Beckvid Tranc
 hell z Evropské komise představí požadavky na pravidla původu a 
 postupy pro vývoz do Kanady v rámci CETA\, aby podniky a zejména malé 
 a střední podniky mohly plně těžit ze snížení cel.  Pozvánka zde.
 \n
URL:https://www.spcr.cz/webinar-ceta-pravidla-puvodu
DTSTART:20210208T160000
DTEND:20210208T180000
LOCATION:
END:VEVENT
END:VCALENDAR
