BEGIN:VCALENDAR
PRODID:-//eluceo/ical//2.0/EN
VERSION:2.0
CALSCALE:GREGORIAN
BEGIN:VEVENT
UID:ef15bb7f17098d9d7e0d87b68699eafa
DTSTAMP:20260423T125529Z
SUMMARY:Webinář k obchodu mezi EU a UK
DESCRIPTION:Název akce: Webinář k obchodu mezi EU a UK\nURL: https://www
 .spcr.cz/webinar-k-obchodu-mezi-eu-uk-0\nPopis: \n\nWebinář organizuje b
 ritská Border Protocol and Delivery Group a je určen jak evropských imp
 ortérům\, tak exportérům.Britské kontroly na hranicích jsou pro vět
 šinu zboží odloženy do 1. 7. 2021\, nimcéně doporučujeme se zúčas
 tnit\, pokud do UK vyvážíte. Webinář je také přínosný pro meziná
 rodní dopravce\, bude pokrývat i importní část pravidel do EU. Pravid
 la EU jsou plně uplatňována již od 1. 1. 2021.\n\n“Movement of goods
  through non short straits RoRo locations in Northern Europe”Wednesday 2
 7th January 2021 from 14:00 to 16:00 (UK time) / 15:00 to 17:00 (CET)Borde
 r and Protocol Delivery Group (BPDG) invite you to join this webinar in wh
 ich we will discuss the border / procedural formalities required for movin
 g goods:From GB to the EU / From the EU to GB via non short straits locati
 ons to / from the Netherlands and Belgium.UK experts will be joined by off
 icials from Belgium and the Netherlands.This event is for:1. UK & EU expor
 ters / their representatives2. UK & EU importers / their representatives3.
  UK & EU freight forwarders\, transporters and logistics companiesKey obje
 ctives:1. It will include GB and EU requirements on fulfilling responsibil
 ities for certification\, IT systems\, customs and transit processes and t
 he border procedures across the supply chain from GB to EU Ports in Belgiu
 m and the Netherlands. The webinar will also outline the consequences / co
 sts of failing to comply with the formalities to import goods into the EU.
 2. Focus on moving products of animal origin and products subject to sanit
 ary phytosanitary control.3. The webinar will also include a refresher on 
 the case studies for exporting and importing goods. \n
URL:https://www.spcr.cz/webinar-k-obchodu-mezi-eu-uk-0
DTSTART:20210127T150000
DTEND:20210127T170000
LOCATION:
END:VEVENT
END:VCALENDAR
