BEGIN:VCALENDAR
PRODID:-//eluceo/ical//2.0/EN
VERSION:2.0
CALSCALE:GREGORIAN
BEGIN:VEVENT
UID:1d429e1d01e43be82fb6b7ec011f2295
DTSTAMP:20260423T125537Z
SUMMARY:Online seminář: Aktuální možnosti exportu do JAR a Nigérie
DESCRIPTION:Název akce: Online seminář: Aktuální možnosti exportu do 
 JAR a Nigérie\nURL: https://www.spcr.cz/online-seminar-aktualni-moznosti-
 exportu-do-jar-nigerie-0\nPopis: \n\nZveme vás na exportní online semin
 ář pořádaný agenturou Czech Trade. Seminář bude zaměřený na aktu
 ální situaci a budoucí příležitosti na trzích v JAR a Nigérii - s 
 Petrem Haramulem\, ředitelem zahraniční kanceláře CzechTrade v Johan
 nesburgu a Štěpánem Benešem\, ředitelem zahraniční kanceláře Cze
 chTrade v Lagosu – ŽIVĚ.Anotace:\n\n\nJAR a NIGÉRIE v době koronav
 iru: aktuální informace\, dopady na obchodování\n\n\nSoučasné ekonom
 ické klima\n\n\nOptimální formy vstupu na dané trhy / předpoklady exp
 anze\n\n\nAktuální exportní příležitosti\n\n\nSlužby CzechTrade pro
  exportéry\n\n\nOtázky & Odpovědi\n\n\nVíce informací a registrace na
  seminář na tomto odkazu.\n
URL:https://www.spcr.cz/online-seminar-aktualni-moznosti-exportu-do-jar-nig
 erie-0
DTSTART:20210217T100000
DTEND:20210217T113000
LOCATION:
END:VEVENT
END:VCALENDAR
