BEGIN:VCALENDAR
PRODID:-//eluceo/ical//2.0/EN
VERSION:2.0
CALSCALE:GREGORIAN
BEGIN:VEVENT
UID:8d4fa4cb5c5909d9d77d4338c64b2674
DTSTAMP:20260423T213715Z
SUMMARY:Planet 2021 Budapest Sustainability Expo and Summit
DESCRIPTION:Název akce: Planet 2021 Budapest Sustainability Expo and Summi
 t\nURL: https://www.spcr.cz/planet-2021-budapest-sustainability-expo-and-s
 ummit-0\nPopis: \n\nCílem veletrhu je představit společnosti střední 
 Evropy\, které přispívají k udržitelnému rozvoji v oblasti energií\
 , zemědělství\, dopravy\, oběhového hospodářství a smart cities. N
 abídka by tedy mohla zaujmout především české společnosti a startup
 y v oblasti čistých technologií\, udržitelnosti a dalších souvisejí
 cích oborů. Organizátoři tuto akci zamýšlejí jako jednu z prvních 
 velkých postcovidových akcí\, která by v návaznosti na očekávaný 
 úspěch vakcinačního programu přivítala tisíce účastníků z celé
 ho světa včetně vysoce postavených představitelů OSN\, vládních de
 legací\, prominentních vědců a ostatních zástupců byznysu a finanč
 ního sektoru. Více informací o akci v příloze a na stránkách https:
 //planetbudapest.hu/en.  V případě zájmu kontaktujte ekonomickou diplo
 matku Velvyslanectví Maďarska v Praze paní Katalin Ertsey:  Katalin.E
 rtsey@mfa.gov.hu.  \n
URL:https://www.spcr.cz/planet-2021-budapest-sustainability-expo-and-summit
 -0
DTSTART:20211129T000000
DTEND:20211205T235959
LOCATION:
END:VEVENT
END:VCALENDAR
