BEGIN:VCALENDAR
PRODID:-//eluceo/ical//2.0/EN
VERSION:2.0
CALSCALE:GREGORIAN
BEGIN:VEVENT
UID:54beccf7971cc4adeb72c1d4a07ed4a9
DTSTAMP:20260423T163201Z
SUMMARY:Online seminář: Jak úspěšně působit na švédském trhu v ro
 ce 2021
DESCRIPTION:Název akce: Online seminář: Jak úspěšně působit na šv
 édském trhu v roce 2021\nURL: https://www.spcr.cz/online-seminar-jak-usp
 esne-pusobit-na-svedskem-trhu-v-roce-2021\nPopis: \n\nDovolujeme si Vás p
 ozvat na zajímavé EXPORTNÍ a ODBORNÉ ONLINE SEMINÁŘE pořádané a
 genturou CzechTrade. Účast na semináři je ZDARMA na základě registr
 ace. ONLINE SEMINÁŘ: Jak úspěšně působit na ŠVÉDSKÉM trhu v roc
 e 2021:\n\nAktuální informace ze skandinávských trhů\nPodrobné infor
 mace o švédskému trhu\, který je díky vyspělé ekonomice a relativn
 ě malým restrikcím aktivní i v době světové pandemie.\nLegislativn
 í problematika vysílání pracovníků do ŠvédskaVíce informací zde.
 \n
URL:https://www.spcr.cz/online-seminar-jak-uspesne-pusobit-na-svedskem-trhu
 -v-roce-2021
DTSTART:20210209T140000
DTEND:20210209T153000
LOCATION:
END:VEVENT
END:VCALENDAR
