BEGIN:VCALENDAR
PRODID:-//eluceo/ical//2.0/EN
VERSION:2.0
CALSCALE:GREGORIAN
BEGIN:VEVENT
UID:43d5fb93853266e252487c98dcd6884e
DTSTAMP:20260423T131009Z
SUMMARY:Online seminář: Proměny na francouzském trhu – příležitost
 i ve strategických oborech
DESCRIPTION:Název akce: Online seminář: Proměny na francouzském trhu 
 – příležitosti ve strategických oborech\nURL: https://www.spcr.cz/on
 line-seminar-promeny-na-francouzskem-trhu-prilezitosti-ve-strategickych-ob
 orech\nPopis: \n\nDovolujeme si Vás pozvat na zajímavé EXPORTNÍ a ODB
 ORNÉ ONLINE SEMINÁŘE pořádané agenturou CzechTrade. Účast na sem
 ináři je ZDARMA na základě registrace. ONLINE SEMINÁŘ: Proměny na 
 FRANCOUZSKÉM trhu – příležitosti ve strategických oborech:Aktuáln
 í makroekonomická situace ve Francii a výhledy do budoucnaPrezentace pl
 ánu na obnovu ekonomiky FRANCE RELANCESituace v jednotlivých strategick
 ých oborech francouzské ekonomiky\, exportní příležitosti pro česk
 é firmy Více informací zde. \n
URL:https://www.spcr.cz/online-seminar-promeny-na-francouzskem-trhu-prilezi
 tosti-ve-strategickych-oborech
DTSTART:20250128T140000
DTEND:20250128T153000
LOCATION:
END:VEVENT
END:VCALENDAR
