BEGIN:VCALENDAR
PRODID:-//eluceo/ical//2.0/EN
VERSION:2.0
CALSCALE:GREGORIAN
BEGIN:VEVENT
UID:3ac4675ab3a9e65ec12a9b5c17abd1ed
DTSTAMP:20260423T163302Z
SUMMARY:Online seminář: Exportní příležitosti pro české firmy v Ind
 ii
DESCRIPTION:Název akce: Online seminář: Exportní příležitosti pro č
 eské firmy v Indii\nURL: https://www.spcr.cz/online-seminar-exportni-pril
 ezitosti-pro-ceske-firmy-v-indii\nPopis: \n\nDovolujeme si Vás pozvat na 
 zajímavé EXPORTNÍ a ODBORNÉ ONLINE SEMINÁŘE pořádané agenturou 
 CzechTrade. Účast na semináři je ZDARMA na základě registrace. Exp
 ortní příležitosti pro české firmy v INDII: INDIE se řadí mezi ne
 jrychleji se rozvíjející ekonomiky světa a je považována za jednu z 
 budoucích ekonomických velmocí. Změnila pandemie Covid-19 indickou eko
 nomiku a její růst?Které obory nabízejí největší obchodní příle
 žitosti? Jak se připravit na vstup na indický trh? Jaké jsou obchodní
  zvyklosti v regionu\, nabídky služeb státu\, možnosti podpory český
 ch firem\, informační zdroje?Více informací zde.\n
URL:https://www.spcr.cz/online-seminar-exportni-prilezitosti-pro-ceske-firm
 y-v-indii
DTSTART:20250127T100000
DTEND:20250127T113000
LOCATION:
END:VEVENT
END:VCALENDAR
