BEGIN:VCALENDAR
PRODID:-//eluceo/ical//2.0/EN
VERSION:2.0
CALSCALE:GREGORIAN
BEGIN:VEVENT
UID:944e7fbe88ba864f52c05fb18af09bca
DTSTAMP:20260423T212910Z
SUMMARY:Online seminář: Export do Velké Británie po brexitu
DESCRIPTION:Název akce: Online seminář: Export do Velké Británie po br
 exitu\nURL: https://www.spcr.cz/online-seminar-export-do-velke-britanie-po
 -brexitu\nPopis: \n\nDovolujeme si Vás pozvat na zajímavé EXPORTNÍ a 
 ODBORNÉ ONLINE SEMINÁŘE pořádané agenturou CzechTrade. Účast na s
 emináři je ZDARMA na základě registrace. Program:Dohoda o obchodu a s
 polupráci mezi EU a UK (praktické obchodní aspekty)Aktuální situace a
  jak oslovit britského zákazníka v současné době pandemie Covid-19P
 rávní aspekty spolupráce s klientem z Velké BritánieVíce informac
 í zde.\n
URL:https://www.spcr.cz/online-seminar-export-do-velke-britanie-po-brexitu
DTSTART:20250126T140000
DTEND:20250126T153000
LOCATION:
END:VEVENT
END:VCALENDAR
