BEGIN:VCALENDAR
PRODID:-//eluceo/ical//2.0/EN
VERSION:2.0
CALSCALE:GREGORIAN
BEGIN:VEVENT
UID:d8a67ee1ac70ecf79b85c6e72f9b68fc
DTSTAMP:20260423T124851Z
SUMMARY:Konference Trendy v robotizaci 2025
DESCRIPTION:Název akce: Konference Trendy v robotizaci 2025\nURL: https://
 www.spcr.cz/konference-trendy-v-robotizaci-2025\nPopis: \n\nZveme vás na 
 virtuální konferenci Trendy v robotizaci 2021\, které Svaz průmyslu a 
 dopravy ČR udělil záštitu.Osmý ročník konference představí opět 
 řadu novinek bohatého programu. I když jen virtuálně. Kromě ukázky 
 novinek z oblasti robotiky se budeme v rámci odborné sekce věnovat tak
 é otázkám zavádění robotů\, vlivu na zaměstnanost\, či reálným 
 aplikacím ve výrobních provozech. Na konferenci uvítáme odborníky z 
 nezávislých institucí\, analytiky i zástupce výrobních provozů.Při
 praveny budou navíc v obou programových dnech také zvláštní workshop
 y a odborné diskuze. Letošní program bude rozdělen do dvou úrovní. T
 radiční konference proběhne ve dnech 26. a 27. ledna 2021. Závěrečn
 ý den\, tedy 28. ledna 2021 nabídne ukázku robotiky široké veřejnost
 i ve formě konferenčního programu\, workshopů\, výstavy\, B2B setkán
 í a dalších specialit. Každý si tak bude moci nastavit svůj požadav
 ek návštěvy dle svého uvážení. A to vše zvládnete od svých obraz
 ovek.PROGRAM KONFERENCE1. a 2. den (26. a 27. ledna 2021): Strategie robot
 izace a odborné diskusní setkáníHlavní program akce zpoplatněn: 2 50
 0 KčPo úspěchu loňského ročníku pokračujeme opět ve velkém stylu
  s předními českými a zahraničními řečníky\, kteří zasadí robo
 tizaci do širšího kontextu průmyslové výroby. Vstupní akce bude zam
 ěřena více na manažerský a strategický přístup. Připraveny jsou d
 elší vstupy a rozsáhlejší diskusní panely s neoukanými řečníky.S
 oučasné trendy v robotizaci a přidružené automatizaci + diskuzní pan
 elRobotické projekty a příklady implementací ve výrobních podnicích
 Robot a člověkBudoucnost průmyslové robotizace3. den (28. ledna 2021) 
 Robotizace a automatizace v praxi + bohatá worshopová částOtevřený r
 obotický den: zdarmaNovinky v oblasti robotizace v ČR a SRNasazení robo
 tů v současných průmyslových provozechKooperativní robotika a bezpe
 čnost při aplikaci robotůSystémová integrace\, řídicí systémy\, p
 rogramování\, strojové vidění a jiné komponentyVýstava a workshopy\
 , B2B virtuální setkáníČlenové SP ČR mají slevu na vstupné 50 %. 
 O slevový kód pište na e-mail: treznickova@spcr.cz.Více o konferenci n
 a webových stránkách zde.\n
URL:https://www.spcr.cz/konference-trendy-v-robotizaci-2025
DTSTART:20250126T000000
DTEND:20250128T235959
LOCATION:
END:VEVENT
END:VCALENDAR
