BEGIN:VCALENDAR
PRODID:-//eluceo/ical//2.0/EN
VERSION:2.0
CALSCALE:GREGORIAN
BEGIN:VEVENT
UID:aa50e7aca539557082cbe9cec43d0120
DTSTAMP:20260423T163252Z
SUMMARY:Webinář: Využití mezinárodních tendrů v exportu
DESCRIPTION:Název akce: Webinář: Využití mezinárodních tendrů v exp
 ortu\nURL: https://www.spcr.cz/webinar-vyuziti-mezinarodnich-tendru-v-expo
 rtu-0\nPopis: \n\nWebinář organizovaný SP ČR proběhne ve čtvrtek 21.
  ledna 2021 od 10:00 hodin. Webinář poskytne informace\, jak se zapojit
  do tendrů vypisovaných mezinárodními institucemi. Akce je zdarma\, 
 ale podléhá registraci zde (spcr.cz). Registrace bude otevřena do 20.
 1. Následně Vám bude zaslán odkaz pro sledování semináře.\n
URL:https://www.spcr.cz/webinar-vyuziti-mezinarodnich-tendru-v-exportu-0
DTSTART:20250221T100000
DTEND:20250221T113000
LOCATION:
END:VEVENT
END:VCALENDAR
