BEGIN:VCALENDAR
PRODID:-//eluceo/ical//2.0/EN
VERSION:2.0
CALSCALE:GREGORIAN
BEGIN:VEVENT
UID:530f799aebf875407a0fbe3b88f77201
DTSTAMP:20260423T162828Z
SUMMARY:Asian Licensing Conference a Hong Kong International Licensing Show
  2021 (online)
DESCRIPTION:Název akce: Asian Licensing Conference a Hong Kong Internation
 al Licensing Show 2021 (online)\nURL: https://www.spcr.cz/asian-licensing-
 conference-hong-kong-international-licensing-show-2021-online-0\nPopis: \n
 \nZveme Vás ve spolupráci s HKTDC na Asian Licensing Conference (ALC) a
  Hong Kong International Licensing Show (HKILS)\, která se uskuteční p
 říští týden ve dnech 11. - 15. 1. online.\nVíce informací\n
URL:https://www.spcr.cz/asian-licensing-conference-hong-kong-international-
 licensing-show-2021-online-0
DTSTART:20210111T000000
DTEND:20210115T235959
LOCATION:
END:VEVENT
END:VCALENDAR
