BEGIN:VCALENDAR
PRODID:-//eluceo/ical//2.0/EN
VERSION:2.0
CALSCALE:GREGORIAN
BEGIN:VEVENT
UID:3ab436100414bf51c4ef9754a4bc21b1
DTSTAMP:20260423T145949Z
SUMMARY:Veletrh China International Consumer Products Expo\, Hainan
DESCRIPTION:Název akce: Veletrh China International Consumer Products Expo
 \, Hainan\nURL: https://www.spcr.cz/veletrh-china-international-consumer-p
 roducts-expo-hainan-0\nPopis: \n\nOd 7. do 10. května 2021 se v provincii
  Hainan uskuteční 1. ročník China International Consumer Products Expo
 \, veletrhu zaměřeného na dovoz spotřebního zboží do Číny.\nVíce
  informací\n
URL:https://www.spcr.cz/veletrh-china-international-consumer-products-expo-
 hainan-0
DTSTART:20210507T000000
DTEND:20210510T235959
LOCATION:
END:VEVENT
END:VCALENDAR
