BEGIN:VCALENDAR
PRODID:-//eluceo/ical//2.0/EN
VERSION:2.0
CALSCALE:GREGORIAN
BEGIN:VEVENT
UID:f570f18c548aa253a6690175bd1ddf57
DTSTAMP:20260423T163341Z
SUMMARY:Veletrh SOURCING TAIWAN Online
DESCRIPTION:Název akce: Veletrh SOURCING TAIWAN Online\nURL: https://www.s
 pcr.cz/veletrh-sourcing-taiwan-online-0\nPopis: \n\nTchajpejská hospodá
 řská a kulturní kancelář v Praze zve k účasti na nadcházejícím b
 loku online veletrhu SOURCING TAIWAN Online 2020\, který se bude konat d
 ne 02.02.2021.Online veletrh je organizován ve spolupráci s Úřadem pr
 o zahraniční obchod Taiwanu (BOFT) a Radou pro rozvoj zahraničního obc
 hodu na Tchaj-wanu (TAITRA) jako náhrada za již tradiční veletrh SOURC
 ING TAIWAN.Můžete těšit na následující program:02.02.2021      
 Taiwan Anti-Epidemic Products Online Biz MeetingObchodní jednání pro po
 dnikání v oblasti: zdravotnická zařízení a léčebné přístroje\, 
 výrobky k testování COVID-19\, stroje a materiály pro prevenci epidemi
 e\, zdravotní služby a ochrana.Registrace probíhá do 15.01.2021\, v p
 řípadě zájmu o účast se prosím do tohoto data obraťte na kancelá
 ř  TECO na e-mail cztwec02@moea.gov.tw. Program bude rozdělen do tř
 í bloků\, první od 0:15 (CET) převážně situovaný pro účastníky 
 z Amerik\, blok druhý od 2:15 (CET) pro oblast Austrálie\, Nového Zéla
 ndu\, Oceánie\, Jižní Koreje a ASEAN a blok třetí od 6:15 (CET)\, ur
 čený pro oblast Evropy\, Afriky\, Indie a Středního východu.V přípa
 dě\, zájmu o účast na události nebo budete-li mít jakékoli otázky 
 se prosím obraťte na kancelář TECO (Taipei Economic and Cultural Offi
 ce in Prague).\n
URL:https://www.spcr.cz/veletrh-sourcing-taiwan-online-0
DTSTART:20250130T061500
DTEND:20250131T113000
LOCATION:
END:VEVENT
END:VCALENDAR
