BEGIN:VCALENDAR
PRODID:-//eluceo/ical//2.0/EN
VERSION:2.0
CALSCALE:GREGORIAN
BEGIN:VEVENT
UID:7a1847c1a3ef9ab7a224e8b9c5599fb0
DTSTAMP:20260423T130943Z
SUMMARY:BREXIT - webinář o aktuálních podmínkách obchodování se Spo
 jeným královstvím
DESCRIPTION:Název akce: BREXIT - webinář o aktuálních podmínkách obc
 hodování se Spojeným královstvím\nURL: https://www.spcr.cz/brexit-web
 inar-o-aktualnich-podminkach-obchodovani-se-spojenym-kralovstvim\nPopis: \
 n\nWebinář o aktuálních podmínkách obchodování se Spojeným králo
 vstvím s ekonomickou diplomatkou velvyslanectví ČR v Londýně Micha
 elou Chrtovou.\nDatum: čtvrtek 7. ledna 2021 od 14:00 hod SEČ.   Sledo
 vání webináře je zdarma po předchozí registraci.\n Více informací
  a registrace:   https://www.export.cz/akce/webinar-brexit-1-2-2/\n
URL:https://www.spcr.cz/brexit-webinar-o-aktualnich-podminkach-obchodovani-
 se-spojenym-kralovstvim
DTSTART:20210107T140000
DTEND:20210107T235959
LOCATION:
END:VEVENT
END:VCALENDAR
