BEGIN:VCALENDAR
PRODID:-//eluceo/ical//2.0/EN
VERSION:2.0
CALSCALE:GREGORIAN
BEGIN:VEVENT
UID:15dfd4f23973d344b1568caf03212873
DTSTAMP:20260423T130206Z
SUMMARY:Mexiko a Kolumbie – webinář o příležitostech pro české fir
 my
DESCRIPTION:Název akce: Mexiko a Kolumbie – webinář o příležitostec
 h pro české firmy\nURL: https://www.spcr.cz/mexiko-kolumbie-webinar-o-pr
 ilezitostech-pro-ceske-firmy\nPopis: \n\nMexiko a Kolumbie – webinář o
  příležitostech pro české firmy s ekonomickými diplomaty v Mexiku 
 Zuzanou Stiborovou a v Bogotě Bohdanem Malaniukem.Sledování webináře
  je zdarma po předchozí registraci.\nVíce informací a registrace: http
 s://www.export.cz/akce/mexiko-kolumbie/\n
URL:https://www.spcr.cz/mexiko-kolumbie-webinar-o-prilezitostech-pro-ceske-
 firmy
DTSTART:20210128T150000
DTEND:20210128T235959
LOCATION:
END:VEVENT
END:VCALENDAR
