BEGIN:VCALENDAR
PRODID:-//eluceo/ical//2.0/EN
VERSION:2.0
CALSCALE:GREGORIAN
BEGIN:VEVENT
UID:1310e41cd6719841098d98bd05eb6af2
DTSTAMP:20260423T163201Z
SUMMARY:Německo – online individuální konzultace
DESCRIPTION:Název akce: Německo – online individuální konzultace\nURL
 : https://www.spcr.cz/nemecko-online-individualni-konzultace\nPopis: \n\nN
 ěmecko – online individuální konzultace s ekonomickým diplomatem v
  Berlíně Ondřejem Karasem.\nVíce informací a registrace: https://ww
 w.export.cz/akce/nemecko-konzultace/\n
URL:https://www.spcr.cz/nemecko-online-individualni-konzultace
DTSTART:20210120T090000
DTEND:20210120T120000
LOCATION:
END:VEVENT
END:VCALENDAR
