BEGIN:VCALENDAR
PRODID:-//eluceo/ical//2.0/EN
VERSION:2.0
CALSCALE:GREGORIAN
BEGIN:VEVENT
UID:968969a25d93bc0b6ff38a9fd0472d02
DTSTAMP:20260423T130841Z
SUMMARY:Webinář o aditivní výrobě kovů pro firmy ve stavebnictví
DESCRIPTION:Název akce: Webinář o aditivní výrobě kovů pro firmy ve 
 stavebnictví\nURL: https://www.spcr.cz/webinar-o-aditivni-vyrobe-kovu-pro
 -firmy-ve-stavebnictvi-0\nPopis: \n\nZveme vás na on-line webinář o adi
 tivní výrobě kovů určený především pro firmy ve stavebním průmy
 slu. Představí možnosti zapojení do projektu Manuela\, jehož cílem j
 e realizaci pilotní linky na aditivní výrobu (additive manufacturing).\
 nWebinář se uskuteční 12. ledna od 9:00 do 10:30 prostřednictvím pla
 tformy MS Teams.\nRegistrovat se je možné na tomto odkazu. Kompletní 
 program semináře je k dispozici v přiloženém PDF.\nProjekt Manuela s
 družuje výzkumní instituce a inovativní firmy\, které působí v obla
 sti aditivní výroby (3D tisku). Jeho cílem je vývoj a realizace pilotn
 í linky\, která by pokrývala celý výrobní cyklus za použití recykl
 ovaného kovového prachu\, zapojení prvků automtizace a strojového uč
 ení. V rámci projektu bude vypsáno několik otevřených výzev pro zai
 nteresované firmy. \n
URL:https://www.spcr.cz/webinar-o-aditivni-vyrobe-kovu-pro-firmy-ve-stavebn
 ictvi-0
DTSTART:20210112T090000
DTEND:20210112T103000
LOCATION:
END:VEVENT
END:VCALENDAR
