BEGIN:VCALENDAR
PRODID:-//eluceo/ical//2.0/EN
VERSION:2.0
CALSCALE:GREGORIAN
BEGIN:VEVENT
UID:9576f263bf874d0cdc6317475a3ba523
DTSTAMP:20260423T213223Z
SUMMARY:Akce - test rozšířeního obsahu
DESCRIPTION:Název akce: Akce - test rozšířeního obsahu\nURL: https://w
 ww.spcr.cz/akce-test-rozsireniho-obsahu\nPopis: \nuvidník\nS určitou hrd
 ostí můžeme říci\, že naše dlouholeté zkušenosti a osvědčené p
 ostupy nám umožňují být průvodcem pro české podnikatele při jejic
 h cestě za úspěchem v zahraničí. Naše podnikatelské mise jsou pečl
 ivě plánované a zaměřené na dosažení konkrétních cílů\, abycho
 m vám mohli poskytnout ty správné nástroje a kontakty pro úspěšné 
 proniknutí na nové trhy. S námi máte možnost využít sílu sítě vr
 cholných představitelů České republiky a společně otevřít dveře 
 k novým obchodním příležitostem a partnerstvím.[[citace]]Naše mise 
 nejsou jen o obchodních schůzkách a prezentacích\, jsou o budování d
 louhodobých vztahů a spolupráce. S naším týmem zkušených odborník
 ů v oblasti mezinárodního obchodu a znalostí lokálních trhů můžet
 e být jistí\, že budete mít na své straně silného partnera. Jsme z
 de pro vás\, abychom vám usnadnili cestu k úspěchu v zahraničí a ab
 ychom vám pomohli realizovat vaše obchodní ambice a plány expanze na n
 ové trhy. Buďte s námi součástí úspěšných příběhů českých 
 firem v globálním měřítku!S určitou hrdostí můžeme říci\, že n
 aše dlouholeté zkušenosti a osvědčené postupy nám umožňují být 
 průvodcem pro české podnikatele při jejich cestě za úspěchem v zahr
 aničí.[[CTA-tlacitko]]Naše podnikatelské mise jsou pečlivě plánovan
 é a zaměřené na dosažení konkrétních cílů\, abychom vám mohli p
 oskytnout ty správné nástroje a kontakty pro úspěšné proniknutí na
  nové trhy. S námi máte možnost využít sílu sítě vrcholných pře
 dstavitelů[[CTA-tlacitko]]Naše podnikatelské mise jsou pečlivě pláno
 vané a zaměřené na dosažení konkrétních cílů\, abychom vám mohl
 i poskytnout ty správné nástroje a kontakty pro úspěšné proniknutí
  na nové trhy. S námi máte možnost využít sílu sítě vrcholných p
 ředstavitelů České republiky a společně otevřít dveře k novým ob
 chodním příležitostem a partnerstvím.[[galerie]]Naše mise nejsou jen
  o obchodních schůzkách a prezentacích\, jsou o budování dlouhodobý
 ch vztahů a spolupráce. S naším týmem zkušených odborníků v oblas
 ti mezinárodního obchodu a znalostí lokálních trhů můžete být jis
 tí\, že budete mít na své straně silného partnera. Jsme zde pro vá
 s\, abychom vám usnadnili cestu k úspěchu v zahraničí a abychom vám
  pomohli realizovat vaše obchodní ambice a plány expanze na nové trhy.
  Buďte s námi součástí úspěšných příběhů českých firem v gl
 obálním mě ítku!S určitou hrdostí můžeme říci\, že naše dlouh
 oleté zkušenosti a osvědčené postupy nám umožňují být průvodcem
  pro české podnikatele při jejich cestě za úspěchem v zahraničí. N
 aše podnikatelské mise jsou pečlivě plánované a zaměřené na dosa
 žení konkrétních cílů\,  abychom vám mohli poskytnout ty správn
 é nástroje a kontakty pro úspěšné proniknutí na nové trhy. S námi
  máte možnost využít sílu sítě vrcholných představitelů České 
 republiky a společně otevřít dveře k novým obchodním příležitost
 em a partnerstvím.[[bloky]]Naše mise nejsou jen o obchodních schůzkác
 h a prezentacích\, jsou o budování dlouhodobých vztahů a spolupráce.
  S naším týmem zkušených odborníků v oblasti mezinárodního obchod
 u a znalostí lokálních trhů můžete být jistí\, že budete mít na 
 své straně silného partnera. Jsme zde pro vás\, abychom vám usnadni
 li cestu k úspěchu v zahraničí a abychom vám pomohli realizovat vaše
  obchodní ambice a plány expanze na nové trhy. Buďte s námi součást
 í úspěšných příběhů českých firem v globálním měřítku![[ci
 tace]][[bloky]]  \n
URL:https://www.spcr.cz/akce-test-rozsireniho-obsahu
DTSTART:20250305T080000
DTEND:20250305T160000
LOCATION:Hotel Continental\, Brno\,60200
END:VEVENT
END:VCALENDAR
