BEGIN:VCALENDAR
PRODID:-//eluceo/ical//2.0/EN
VERSION:2.0
CALSCALE:GREGORIAN
BEGIN:VEVENT
UID:f284b616147c783e71aad154233fe345
DTSTAMP:20260423T145022Z
SUMMARY:Pracovně právní spory
DESCRIPTION:Název akce: Pracovně právní spory\nURL: https://www.spcr.cz
 /pracovne-pravni-spory\nPopis: \nSeznamte se s novinkami\nV rámci diskusn
 ího fóra budou diskutovány nejčastější spory mezi zaměstnavatelem 
 a zaměstnancem\, roviny prevence\, řešení sporů a jejich dopadů. Fó
 rum bude zaměřeno zejména na postavení zaměstnavatele jako žalované
  strany v soudním řízení.DISKUSNÍ OKRUHY:Předcházení sporům  Fo
 rmální a obsahové náležitosti výpovědí\, dohod\, okamžité zruše
 ní PP a dalších dokumentů souvisejících s ukončením PPPodepisován
 í za zaměstnavateleDoručování zaměstnancům po novele ZPRizikové bo
 dy jednání se zaměstnanci (se zaměřením na ukončování pracovních
  poměrů)Předsoudní vyjednávání Oznámení o trvání na dalším z
 aměstnávání\, předžalobní upomínkaLhůty k podání žalobyPracovn
 ěprávní spory a) spory o neplatnost pracovního poměrub) spory o mzdo
 vé nárokyc) spory o náhradu škody\, za kterou odpovídá zaměstnanecd
 ) spory o náhradu škody\, za kterou odpovídá zaměstnavatelSoudní ř
 ízení a) Povinnost zaměstnavatele prokázat svá tvrzeníb) Důsledky 
 soudního sporuc) Povinnost k náhradě mzdy a možnost jejího zkrácení
  (moderace) soudem d) Pokračování v pracovním poměru a opětovné uko
 nčeníe) Náklady soudního řízení stran a jejich náhradaSoučasná j
 udikatura a) ztráta důvěry\, porušení pracovní lázněb) alkohol na
  pracovištic) neuspokojivé pracovní výsledky a další důvodyProjekt 
 Podpora národního\, odvětvového a regionálního sociálního dialogu 
 v ČR je financován Evropskou unií prostřednictvím Operačního progra
 mu Zaměstnanost+ a státního rozpočtu České republiky. Projekt realiz
 uje Svaz průmyslu a dopravy České republiky spolu s Českomoravskou kon
 federací odborových svazů.ČASOVÝ HARMONOGRAM08:45 – 09:00 Připojen
 í účastníků09:00 – 11:00 Informační blok + diskuseMODERÁTORKAJUD
 r. Monika Emanuelová\, právnička\, externí spolupracovnice Svazu prům
 yslu a dopravy ČRREALIZACE AKCEDiskusní fórum bude probíhat online na 
 platformě ZOOM. Není nutná žádná instalace programu. Pro připojení
  se k diskusnímu fóru pro Vás bude dostačující odkaz\, který obdrž
 íte od organizátora akce nejpozději jeden pracovní den před konáním
  akce na e-mail uvedený v registraci. Účast na diskusním fóru bude um
 ožněna pouze registrovaným osobám.REGISTRACENa akci\, se\, prosím\, r
 egistrujte do 7.2.2025 ZDE.V případě dotazů se prosím obraťte na org
 anizátorku akce Bc. Kamilu Babuškovou\, tel.: 733 643 518\, e-mail: kbab
 uskova@spcr.cz.\n
URL:https://www.spcr.cz/pracovne-pravni-spory
DTSTART:20250221T143000
DTEND:20250221T163000
LOCATION:SP ČR\, Freyova 948/11\, Praha 9
END:VEVENT
END:VCALENDAR
