BEGIN:VCALENDAR
PRODID:-//eluceo/ical//2.0/EN
VERSION:2.0
CALSCALE:GREGORIAN
BEGIN:VEVENT
UID:e4a7e23e8f47e0c46fc5f0d4ea85e05d
DTSTAMP:20260423T150323Z
SUMMARY:Diskusní fórum: Setkání zaměstnavatelů s OIP Karlovarského k
 raje II
DESCRIPTION:Název akce: Diskusní fórum: Setkání zaměstnavatelů s OIP
  Karlovarského kraje II\nURL: https://www.spcr.cz/diskusni-forum-setkani-
 zamestnavatelu-s-oip-karlovarskeho-kraje-ii\nPopis: \nPřijďte se poděli
 t o zkušenosti s BOZP i spokojeností s prací OIP.\nPozvánka a registra
 ce ke staženíKontaktní osoba: Ing. Radka Bartiková\, regionální mana
 žerka pro Ústecký a Karlovarský kraj\, 731 411 179\, rbartikova@spcr.c
 z. \n
URL:https://www.spcr.cz/diskusni-forum-setkani-zamestnavatelu-s-oip-karlova
 rskeho-kraje-ii
DTSTART:20250227T100000
DTEND:20250227T130000
LOCATION:Vodárny a kanalizace Karlovy Vary\, Studentská 328/64\, Karlovy 
 Vary 7
END:VEVENT
END:VCALENDAR
