BEGIN:VCALENDAR
PRODID:-//eluceo/ical//2.0/EN
VERSION:2.0
CALSCALE:GREGORIAN
BEGIN:VEVENT
UID:cba416c8d2354d4398c8993d567fdaf7
DTSTAMP:20260423T163311Z
SUMMARY:Flexibilní formy zaměstnávání
DESCRIPTION:Název akce: Flexibilní formy zaměstnávání\nURL: https://w
 ww.spcr.cz/flexibilni-formy-zamestnavani\nPopis: \nSeznamte se s výhodami
  i nevýhodami jednotlivých forem flexibilního zaměstnávání.\nFlexib
 ilní formy práce poskytují lepší možnosti přizpůsobit výkon prác
 e potřebám pracovníků i zaměstnavatelů. Možnost flexibilního uspo
 řádání pracovního režimu představuje jeden ze zajímavých prvků\,
  který může zvýšit atraktivitu zaměstnavatele\, přilákat nové zá
 jemce o práci\, přispět k udržení zaměstnanců a tím tak pro zaměs
 tnavatele i udržení znalostí a dovedností.Flexibilní formy práce moh
 ou snižovat náklady firmy\, mít pozitivní dopad na životní prostřed
 í a reflektují společenskou odpovědnost firmy.Cílem diskusního fóra
  je seznámit účastníky s výhodami i nevýhodami jednotlivých forem f
 lexibilního zaměstnávání\, legislativním rámcem problematiky a mož
 ností podpory.Účastníci získají inspiraci z příkladů dobré praxe
  od zkušených zaměstnavatelů.PROGRAMdefinice pojmů flexibilní pracov
 ní podmínky a osoby znevýhodněné na trhu práce ∙ legislativní rá
 mec tématuvýhody a nevýhody jednotlivých forem flexibilního zaměstn
 ávánípříklady dobré praxemožnosti podpory (projekty\, dotace\, slev
 y na pojistném u zaměstnavatelů apod.)PŘEDNÁŠEJÍCÍBc. Jana Černí
 ková\, vedoucí Oddělení zaměstnanosti Krajské pobočky ÚP ČR v Plz
 niJUDr. Monika Emanuelová\, právnička\, externí spolupracovnice Svazu 
 průmyslu a dopravy ČRMgr. Marcel Gondorčín\, Manažer Paktu zaměstnan
 osti Plzeňského krajeJUDr. Jitka Hejduková\, CSc.\, Poradkyně Svazu pr
 ůmyslu a dopravy pro zaměstnavatelskou oblastČASOVÝ HARMONOGRAM08:45 
 – 09:00 Registrace účastníků\, ranní káva09:00 – 10:30 Úvod\, 1
 . informační blok10:30 – 10:45 Coffee break10:45 – 12:30 2. informa
 ční blok\, sdílení zkušeností a diskuseREGISTRACENa akci se\, prosí
 m\, registrujte ZDE do pondělí 11. 3. 2025.V případě dotazů se pros
 ím obraťte na regionální kancelář Svazu průmyslu a dopravy ČR pro 
 Plzeňský a Jihočeský kraj\, Bc. Kamilu Babuškovou\, e-mail: kbabuskov
 a@spcr.cz\, mobil: 733 643 518.\n
URL:https://www.spcr.cz/flexibilni-formy-zamestnavani
DTSTART:20250318T090000
DTEND:20250318T123000
LOCATION:Hotel Lions Plzeň\, Zborovská 18\, 301 00 Plzeň
END:VEVENT
END:VCALENDAR
