BEGIN:VCALENDAR
PRODID:-//eluceo/ical//2.0/EN
VERSION:2.0
CALSCALE:GREGORIAN
BEGIN:VEVENT
UID:974dd3c2a9912c0fd7aec51d9dc92086
DTSTAMP:20260423T162642Z
SUMMARY:Feria Agroalimentaria
DESCRIPTION:Název akce: Feria Agroalimentaria\nURL: https://www.spcr.cz/fe
 ria-agroalimentaria\nPopis: \n\nZveme vás k účasti na 9. ročníku "Fer
 ia Agroalimentaria". Tuto významnou událost pořádá Centrum pro export
  a investice Dominikánské republiky (ProDominicana) společně s Dominik
 ánskou agrárně-podnikatelskou radou (JAD)\, za podpory Ministerstva zah
 raničních věcí Dominikánské republiky (MIREX) a této ambasády.\nFe
 ria Agroalimentaria je nejvýznamnější mezinárodní obchodní platform
 ou v oblasti potravin\, nápojů a tabáku v Dominikánské republice a Ka
 ribiku. Více než 250 národních exportérů zde představí světu to n
 ejlepší z naší agroalimentární a agroindustriální nabídky\, jako 
 jsou zelenina\, koření\, bylinky\, banány\, manga\, avokáda\, ananasy\
 , káva\, kakao\, tabák\, pivo či rum a mnoho dalších. Účastníci zd
 e naleznou ideální prostředí pro navazování obchodních kontaktů pr
 ostřednictvím celé řady aktivit\, mezi které patří obchodní setká
 ní B2B\, podnikatelské schůzky\, přednášky\, odborné konference a v
 ýstavy nejlepších domácích produktů.\nDále Vás informujeme\, že v
  rámci pobídek k účasti nabízíme ubytování v hotelu od 28. května
  do 31. května\, zajištění dopravy z/na letiště a personalizovaný p
 rogram podle Vašich zájmů\, včetně návštěv výrobních areálů a 
 provozů.Níže uvádíme výhody pro mezinárodní návštěvníky:• Ú
 čast na obchodních jednáních (1 na 1) s místními exportéry.• Př
 ístup k prezentaci a nabídce místních produktů a služeb.• Program 
 panelových diskusí a konferencí na vysoké úrovni zaměřených na rů
 zné komerční sektory.• Odborné poradenství a průběžná podpora t
 ýmu ProDominicana během Vaší účasti.• VIP pozvánka na koktejl „
 Noche Dominicana“.• 3 noci ubytování zdarma (*)• Doprava z/na leti
 ště zdarma (*)(*) Vztahuje se na proces hodnocení.\nOdkazy pro registra
 ci firem\, které mají zájem se této akce zúčastnit:• anglicky: ht
 tps://wkf.ms/40GECFP• španělsky: https://wkf.ms/40twoR0\n \n
URL:https://www.spcr.cz/feria-agroalimentaria
DTSTART:20250528T000000
DTEND:20250531T235959
LOCATION:
END:VEVENT
END:VCALENDAR
