BEGIN:VCALENDAR
PRODID:-//eluceo/ical//2.0/EN
VERSION:2.0
CALSCALE:GREGORIAN
BEGIN:VEVENT
UID:75612b5a0c8080f92f8837f0b5b1cecf
DTSTAMP:20260423T130652Z
SUMMARY:Veletrh Feria Agroalimentaria v Dominikánské republice
DESCRIPTION:Název akce: Veletrh Feria Agroalimentaria v Dominikánské rep
 ublice\nURL: https://www.spcr.cz/veletrh-feria-agroalimentaria-v-dominikan
 ske-republice\nPopis: \n\nDovolujeme si Vás pozvat na 9. ročník veletrh
 u „Feria Agroalimentaria“ Dominikánské republiky\, který se uskute
 ční od 28. května do 31. května 2025 v Santo Domingu. Událost pořád
 á Centrum pro export a investice Dominikánské republiky (ProDominicana)
  společně s Dominikánskou agrárně-podnikatelskou radou (JAD)\, za pod
 pory Ministerstva zahraničních věcí Dominikánské republiky (MIREX) a
  Velvyslanectví Dominikánské republiky v Berlíně.\nFeria Agroalimenta
 ria je nejvýznamnější mezinárodní obchodní platformou v oblasti pot
 ravin\, nápojů a tabáku v Dominikánské republice a Karibiku. Více ne
 ž 250 národních exportérů zde představí světu to nejlepší z agro
 alimentární a agroindustriální nabídky\, jako jsou zelenina\, kořen
 í\, bylinky\, banány\, manga\, avokáda\, ananasy\, káva\, kakao\, tab
 ák\, pivo či rum a mnoho dalších. Firmy zde naleznou možnosti pro obc
 hodní setkání\, B2B\, přednášky\, odborné konference a výstavy pro
 duktů.\nZájemcům o účast nabízí dominikánská strana ubytování\,
  dopravu z/na letiště a personalizovaný program podle zájmů\, včetn
 ě návštěv výrobních areálů a provozů.\nOdkazy pro registraci fire
 m\, které mají zájem se této akce zúčastnit:\n\nAnglicky: https://wk
 f.ms/40GECFP\nŠpanělsky: https://wkf.ms/40twoR0\n\n Brochure_Agroalimen
 taria_2025.2.pdf\n\n \n \n
URL:https://www.spcr.cz/veletrh-feria-agroalimentaria-v-dominikanske-republ
 ice
DTSTART:20250528T080000
DTEND:20250531T170000
LOCATION:
END:VEVENT
END:VCALENDAR
