BEGIN:VCALENDAR
PRODID:-//eluceo/ical//2.0/EN
VERSION:2.0
CALSCALE:GREGORIAN
BEGIN:VEVENT
UID:d0dcf108c9245c7a7479bf77f5386986
DTSTAMP:20260423T150245Z
SUMMARY:EU-Ukraine Business Summit 2025
DESCRIPTION:Název akce: EU-Ukraine Business Summit 2025\nURL: https://www.
 spcr.cz/eu-ukraine-business-summit-2025\nPopis: \n\nEU SUPPORT AND ACCESSI
 ON DRIVING UKRAINE’S ECONOMIC RECOVERYFollowing Ukraine’s Future Summi
 t’s success last year\, the EU-Ukraine Business Summit will serve as a p
 latform for deepening Ukraine’s economic integration with the European U
 nion and fostering stronger cooperation and opportunities for European bus
 inesses.Co-organised by the European Commission\, with the support of the 
 Mission of Ukraine to the EU\, Italy – as organisers of the 2025 Ukraine
  Recovery Conference – and the Polish Presidency of the Council of the E
 U\, the summit will provide an update on key EU financial instruments and 
 cooperation mechanisms in order to bolster investment in Ukraine.European 
 industries will join this vital dialogue\, contributing to more robust eco
 nomic cooperation and shaping a future of shared prosperity and partnershi
 p between EU and Ukrainian businesses.Registration link will be available 
 on the summit website soon. \n
URL:https://www.spcr.cz/eu-ukraine-business-summit-2025
DTSTART:20250410T000000
DTEND:20250411T235900
LOCATION:
END:VEVENT
END:VCALENDAR
