BEGIN:VCALENDAR
PRODID:-//eluceo/ical//2.0/EN
VERSION:2.0
CALSCALE:GREGORIAN
BEGIN:VEVENT
UID:027b3520a9d336f8cb79b39315d229b9
DTSTAMP:20260423T162802Z
SUMMARY:Informační schůzka k obchodním překážkám s Tureckem
DESCRIPTION:Název akce: Informační schůzka k obchodním překážkám s
  Tureckem\nURL: https://www.spcr.cz/informacni-schuzka-k-obchodnim-prekazk
 am-s-tureckem-0\nPopis: \n\nGenerální ředitelství pro obchod Evropské
  komise a ministerstvo obchodu Turecké republiky si dovolují pozvat čes
 ké firmy na informační schůzku k problematice obchodních překážek 
 v obchodních vztazích s Tureckem.Schůzka se uskuteční online v t
 ýdnu od 25. února v odpoledních hodinách. Nejprve proběhne prezentace
  ministerstva a poté bude následovat část s otázkami a odpověďmi. S
 etkání by mělo trvat přibližně 1\,5 hodiny\; více informací získ
 áte na níže uvedených kontaktech.Tematické okruhy:ID překážky: 108
 20Turecký systém kontroly dovozu založený na posouzení rizik (TAREKS)
  - nadměrné požadavky na dokumentaci\, posouzení shody a výsledky zko
 ušekUrčeno pro výrobce průmyslového a spotřebního zboží\, zejmén
 a nesilničních pojízdných strojů\; výrobků s označením CE\, jako 
 jsou strojní zařízení a elektrotechnické výrobky\; spotřebních vý
 robků a hraček.V případě dotazů a zájmu o účast pište na adresu:
  Mariusz.HUBSKI@ec.europa.euID překážky: 11226Režim dohledu nad dovoze
 mTurecké ministerstvo obchodu vyjádřilo ochotu zabývat se konkrétním
 i obtížemi\, s nimiž se potýkají firmy z EU\, a nalézt adekvátní 
 řešení případ od případu. Ministerstvo doporučuje obrátit se na e
 mailovou adresu zřízenou za tímto účelem: korunma@ticaret.gov.tr a v 
 kopii na Delegaci EU: DELEGATION-TURKIYE-TRADE@eeas.europa.eu.ID překá
 žky: 14545Dohled nad dovozem textilií a materiálů používaných při 
 výrobě textilií prostřednictvím celní evidenceTurecké ministerstvo 
 obchodu vyjádřilo ochotu zabývat se konkrétními obtížemi\, s nimiž
  se potýkají firmy z EU\, a nalézt adekvátní řešení případ od p
 řípadu. Ministerstvo obchodu doporučuje obrátit se na emailovou adresu
  zřízenou za tímto účelem: oeksorusturma@ticaret.gov.tr a v kopii na 
 Delegaci EU: DELEGATION-TURKIYE-TRADE@eeas.europa.eu.\n
URL:https://www.spcr.cz/informacni-schuzka-k-obchodnim-prekazkam-s-tureckem
 -0
DTSTART:20250325T140000
DTEND:20250325T170000
LOCATION:
END:VEVENT
END:VCALENDAR
