BEGIN:VCALENDAR
PRODID:-//eluceo/ical//2.0/EN
VERSION:2.0
CALSCALE:GREGORIAN
BEGIN:VEVENT
UID:431036a7161803465a02cde355465b12
DTSTAMP:20260423T150053Z
SUMMARY:On the Road to Ukraine Recovery Conference 2025
DESCRIPTION:Název akce: On the Road to Ukraine Recovery Conference 2025\nU
 RL: https://www.spcr.cz/road-ukraine-recovery-conference-2025\nPopis: \n\n
 Dear Madam\, dear Sir\,On 5 March 2025\, an event focusing on the busines
 s dimension of the Ukraine Recovery Conference that will take place later 
 in Rome\, will be organised in Milan. Entitled “On the Road to Ukraine 
 Recovery Conference 2025”\, the purpose of the event will be to outline 
 the role of the Ukraine Recovery Conference for mobilizing business for th
 e reconstruction of Ukraine and highlight opportunities/instruments for in
 vesting in the country. It will also be helpful for elaborating possible d
 eliverables for the July Conference\, as well as representing the right co
 ntext to voice recommendations in relation to the recovery\, reconstructio
 n and reform process. The concept note of the event\, which includes back
 ground information\, agenda and registration details\, may be found attach
 ed for your information and perusal.ACTION:To submit your application to p
 articipate in the event\, it is necessary to fill out the form available 
 online at this LINK no later than Monday\, 24 February 2025\, 12pm (CET).
 Please take note that registration does not guarantee acceptance to the ev
 ent.The event is organised by the Ministry of Foreign Affairs and Internat
 ional Cooperation of Italy\, together with the Ministry of Foreign Affairs
  and the Ministry of Economy of Ukraine and the Lombardy Region\, in colla
 boration with ICE-Italian Trade Agency.Full invitation can be found here.
  \n
URL:https://www.spcr.cz/road-ukraine-recovery-conference-2025
DTSTART:20250305T000000
DTEND:20250305T235900
LOCATION:Řím\, Itálie
END:VEVENT
END:VCALENDAR
