BEGIN:VCALENDAR
PRODID:-//eluceo/ical//2.0/EN
VERSION:2.0
CALSCALE:GREGORIAN
BEGIN:VEVENT
UID:858954b8438900ab780c399ce242e303
DTSTAMP:20260423T172619Z
SUMMARY:Export Capabilities Exhibition (Iran Expo)
DESCRIPTION:Název akce: Export Capabilities Exhibition (Iran Expo)\nURL: h
 ttps://www.spcr.cz/export-capabilities-exhibition-iran-expo\nPopis: \n\nDo
 volujeme si Vás pozvat na 7th Export Capabilities Exhibition (Iran Expo) 
 of the Islamic Republic of Iran\, která se bude konat ve dnech 28. dubna 
 až 2. května 2025 v Teheránu. \nMezinárodní výstava Iran Expo je jed
 inečnou příležitostí pro firmy seznámit se s nejnovějšími technol
 ogiemi a produkty různých íránských průmyslových odvětví. Tato v
 ýznamná akce propojuje íránské výrobce a mezinárodní obchodníky a
  poskytuje vhodný prostor pro vytváření obchodních sítí a rozšiřo
 vání B2B spolupráce. \nIran Expo nabízí pro omezený počet návště
 vníků z České republiky možnost ubytování na 4 noci. Další podrob
 nosti naleznete na webových stránkách Iran Expo na adrese: https://www.
 iranexpo.co/?utm_source=iranexpo \nMáte-li zájem o účast na Iran Expo 
 2025\, zaregistrujte se na následujícím odkazu a pro lepší koordinaci
  s organizátorem informujte velvyslanectví (Masoud Hamyani \, Counselor\
 , Embassy of Iran\, Email: masoudhamiani@gmail.com).\n
URL:https://www.spcr.cz/export-capabilities-exhibition-iran-expo
DTSTART:20250428T000000
DTEND:20250502T235959
LOCATION:
END:VEVENT
END:VCALENDAR
