BEGIN:VCALENDAR
PRODID:-//eluceo/ical//2.0/EN
VERSION:2.0
CALSCALE:GREGORIAN
BEGIN:VEVENT
UID:a071cf79ec6a9e2bcf9c45ef6f90ec95
DTSTAMP:20260423T145749Z
SUMMARY:Hodnocení mikroklimatických podmínek v pracovním prostředí
DESCRIPTION:Název akce: Hodnocení mikroklimatických podmínek v pracovn
 ím prostředí\nURL: https://www.spcr.cz/hodnoceni-mikroklimatickych-podm
 inek-v-pracovnim-prostredi\nPopis: \n\nSvaz průmyslu a dopravy České re
 publiky\, Okresní hospodářská komora Liberec\, Krajská nemocnice Libe
 rec\, Krajská hygienická stanice Libereckého kraje a Spolek pro rozvoj 
 lidských zdrojů Liberec vás srdečně zvou na seminář "Hodnocení mik
 roklimatických podmínek v pracovním prostředí\, Kategorizace práce p
 ro rizikové faktory zátěž teplem/zátěž chladem".Program8:45 – 9:0
 0 Registrace účastníků 9:00 – 9:15 Zahájení semináře - regionál
 ní manažerka Svazu průmyslu a dopravy Naďa Vojtíšková\, ředitelka 
 Krajské hygienické stanice Libereckého kraje se sídlem v Liberci Jana 
 Loosová\, ředitel Okresní hospodářské komory Martin Procházka)9:15 
 – 10:00 Mikroklimatické podmínky na pracovišti a jejich hodnocení - 
 Ing. Lenka Prokšová Zuská\, Ph.D. (Státní zdravotní ústav Praha)10:
 00 – 10:15 Měření mikroklimatických podmínek na pracovišti v rozsa
 hu akreditace - Ing. Martina Motlová (Zdravotní ústav se sídlem v Úst
 í nad Labem)10:15 – 10:45 Coffee break10:45 – 11:05 Kategorizace prá
 ce z hlediska rizikového faktoru zátěž teplem a opatření k ochraně 
 zdraví zaměstnanců - Ing. Kateřina Forysová\, Ph.D. ředitelka odboru
  hygieny práce (Krajská hygienická stanice Libereckého kraje se sídle
 m v Liberci)11:05 – 11:25 Kategorizace práce z hlediska rizikového fak
 toru zátěž chladem a opatření k ochraně zdraví zaměstnanců - Mgr.
  Lenka Eitlerová vedoucí oddělení práce pro Liberec a Jablonec n.N. (
 Krajská hygienická stanice Libereckého kraje se sídlem v Liberci)11:25
  – 11:40 Novinky v legislativě pro hygienu práce - Ing. Kateřina Fory
 sová\, Ph.D. ředitelka odboru hygieny práce (Krajská hygienická stani
 ce Libereckého kraje se sídlem v Liberci)11:40 – 12:00 Diskuze\, záv
 ěrCENA: 1950\,- Kč (+ DPH) / 1500\,- Kč (+ DPH) pro členy OHK Liberec\
 , SP ČR nebo Spolku pro rozvoj LZ LBCRegistrace: Na seminář se\, prosí
 m\, registrujte ZDE nejpozději do pátku 14. 3. 2025.\n
URL:https://www.spcr.cz/hodnoceni-mikroklimatickych-podminek-v-pracovnim-pr
 ostredi
DTSTART:20250318T090000
DTEND:20250318T120000
LOCATION:Krajská nemocnice Liberec\, Husova 357/10\, Liberec - Přednášk
 ový sál pavilon “P”
END:VEVENT
END:VCALENDAR
