BEGIN:VCALENDAR
PRODID:-//eluceo/ical//2.0/EN
VERSION:2.0
CALSCALE:GREGORIAN
BEGIN:VEVENT
UID:444c5c8438c3b4ccddeac65a19989c0d
DTSTAMP:20260423T130400Z
SUMMARY:Zasedání Společného výboru pro hospodářskou spolupráci mez
 i ČR a Severní Makedonií
DESCRIPTION:Název akce: Zasedání Společného výboru pro hospodářsko
 u spolupráci mezi ČR a Severní Makedonií\nURL: https://www.spcr.cz/zas
 edani-spolecneho-vyboru-pro-hospodarskou-spolupraci-mezi-cr-severni-makedo
 nii\nPopis: \n\nDovolujeme si Vás informovat o zasedání Společného v
 ýboru pro hospodářskou spolupráci mezi Českou republikou a Severní M
 akedonií\, které proběhne dne 11. března 2025 v prostorách Minister
 stva průmyslu a obchodu v Praze.  V rámci zasedání se uskuteční jed
 nání zástupců ministerstev a vládních agentur obou zemí\, týkajíc
 í vzájemné obchodně-ekonomické spolupráce. Výstupem z jednání bud
 e právně nezávazný text protokolu\, který reflektuje sektory zájmu a
  projekty spolupráce a jehož naplňování se následně průběžně ko
 ntroluje. Výboru budou spolupředsedat ministryně energetiky\, hornictv
 í a nerostných zdrojů Severní Makedonie Sanja Bozhinovska a náměstek
  ministra průmyslu a obchodu ČR Jan Kavalírek.\nNa zasedání je možn
 á i aktivní účast českých firem zejména z oblasti energetiky\, dů
 lního či dopravního průmyslu se zájmem o trh Severní Makedonie. Firm
 y se tak mohou zapojit do jednání pracovních skupin\, tj. zástupců do
 tčených ministerstev obou zemí\, kdy lze shrnout dosavadní či zamýš
 lené aktivity směrem k makedonským partnerům. Pro bližší informace
  lze kontaktovat tajemníka Společného výboru Adama Gazdu na emailové 
 adrese adam.gazda@mpo.gov.cz.\n \n \n \n
URL:https://www.spcr.cz/zasedani-spolecneho-vyboru-pro-hospodarskou-spolupr
 aci-mezi-cr-severni-makedonii
DTSTART:20250311T080000
DTEND:20250311T170000
LOCATION:Ministerstvo průmyslu a obchodu ČR\, Praha 1
END:VEVENT
END:VCALENDAR
