BEGIN:VCALENDAR
PRODID:-//eluceo/ical//2.0/EN
VERSION:2.0
CALSCALE:GREGORIAN
BEGIN:VEVENT
UID:9584f3e313f17544a627f358531cfdc0
DTSTAMP:20260423T125940Z
SUMMARY:Novinky v BOZP s Robertem Křepinským
DESCRIPTION:Název akce: Novinky v BOZP s Robertem Křepinským\nURL: https
 ://www.spcr.cz/novinky-v-bozp-s-robertem-krepinskym\nPopis: \n\nSvaz prům
 yslu a dopravy České republiky\, Okresní hospodářská komora Liberec\
 , Krajská nemocnice Liberec a Spolek pro rozvoj lidských zdrojů Liberec
  vás srdečně zvou na seminář.PROGRAM09:45 - 10:00 - Registrace účas
 tníků10:00 - 10:15 - Úvodní slovo – zahájení10:15 - 11:45 - Novin
 ky v oblasti BOZP v letech 2021 - 202411:45 - 12:15 - Občerstvení\, net
 working12:15 - 13:45 -  Výhled právní úpravy pro rok 2025: Novela zá
 kona č. 262/2006 Sb. (zákoník práce)\, zákona č. 373/2011 Sb. (záko
 n o specifických zdravotních službách)\, zákona č. 309/2006 Sb. (zá
 kon o zajištění dalších podmínek bezpečnosti a ochrany zdraví při
  práci)13:45 - 14:00 - Diskuze\, závěrPŘEDNÁŠEJÍCÍRobert Křepinsk
 ý je osoba v oblasti BOZP (bezpečnosti a ochrany zdraví při práci) a 
 PO (požární ochrany). Těmto oblastem se věnuje již od roku 1986. Je 
 členem Rady vlády pro BOZP a předsedá Stálému výboru pro legislativ
 u při této radě.CENA: 3500\,- Kč (+ DPH) / 2700\,- Kč (+ DPH) pro čl
 eny OHK Liberec\, SP ČR nebo Spolku pro rozvoj LZ LBCREGISTRACE: Na semin
 ář se\, prosím\, registrujte ZDE nejpozději do pátku 28. 2. 2025.  
 \n
URL:https://www.spcr.cz/novinky-v-bozp-s-robertem-krepinskym
DTSTART:20250304T100000
DTEND:20250304T140000
LOCATION:Hotel Continental\, Kounicova 680/6\, Brno
END:VEVENT
END:VCALENDAR
