BEGIN:VCALENDAR
PRODID:-//eluceo/ical//2.0/EN
VERSION:2.0
CALSCALE:GREGORIAN
BEGIN:VEVENT
UID:a501ef21d7811a315b1ff32998d79311
DTSTAMP:20260423T125705Z
SUMMARY:ESG – nefinanční reporting
DESCRIPTION:Název akce: ESG – nefinanční reporting\nURL: https://www.s
 pcr.cz/esg-nefinancni-reporting\nPopis: \n\nSvaz průmyslu a dopravy ČR v
 e spolupráci se společností Envitrail s.r.o. si Vás v rámci projektu 
 „Podpora národního\, odvětvového a regionálního sociálního dialo
 gu v ČR“ dovolují pozvat na diskusní fórum.Cílem diskusního fóra 
 je seznámit účastníky s požadavky týkající se povinného nefinanč
 ního reportingu dle evropské směrnice CSRD. Představíme Vám kroky v
 edoucí k tvorbě ESG reportu\, který je postaven na kvalitně zpracovan
 é analýze dvojí materiality a z ní vycházející ESG strategie. Uká
 žeme si základní principy dvojí materiality i nastavování strategick
 ých cílů\, opatření a metrik. Budeme se věnovat i sběru dat a získ
 áte inspiraci z příkladů dobré praxe. Velká část akce bude věnov
 ána sdílení zkušeností\, dotazům a diskusi.PROGRAMDůvody a dopady E
 SGLegislativní požadavkyAnalýza dvojí významnosti jako základ pro tv
 orbu reportinguStrategie udržitelnosti - podstatná část obsahu reporto
 váníMetodika a postup při sběru dat a jejich zpracováníESG reportPř
 íklady z praxeVzájemné sdílení zkušeností\, dotazy\, diskusePŘEDN
 ÁŠEJÍCÍ Petr Jonák Člen - představenstva\, předseda Expertního t
 ýmu pro udržitelnost\, Svaz průmyslu a dopravy ČRPetr Ondráček - ESG
  Team Lead\, Envitrail Ivan Tučník - Manažer udržitelnosti\, Plzeňsk
 ý Prazdroj\, a.s.Libor Boček - Odborný koordinátor útvaru Firemní st
 rategie a strategie udržitelnosti ve Škoda AutoČASOVÝ HARMONOGRAM 08:
 45 – 09:00: Registrace účastníků\, ranní káva 09:00 – 10:30: Ú
 vod\, 1. informační blok 10:30 – 10:45: Coffee break 10:45 – 12:00
 : 2. informační blok\, sdílení zkušeností a diskuse REGISTRACE Na 
 akci se\, prosím\, registrujte ZDE do pondělí 4. 3. 2025.V případě d
 otazů se prosím obraťte na regionální kancelář Svazu průmyslu a do
 pravy ČR pro Plzeňský a Jihočeský kraj\, Bc. Kamilu Babuškovou\, e-m
 ail: kbabuskova@spcr.cz\, mobil: 733 643 518.\n
URL:https://www.spcr.cz/esg-nefinancni-reporting
DTSTART:20250312T090000
DTEND:20250312T123000
LOCATION:
END:VEVENT
END:VCALENDAR
