BEGIN:VCALENDAR
PRODID:-//eluceo/ical//2.0/EN
VERSION:2.0
CALSCALE:GREGORIAN
BEGIN:VEVENT
UID:0fc7215783cfd3a3b92e9ddd36bfc00a
DTSTAMP:20260423T145950Z
SUMMARY:Food Taipei Mega Shows 2025
DESCRIPTION:Název akce: Food Taipei Mega Shows 2025\nURL: https://www.spcr
 .cz/food-taipei-mega-shows-2025\nPopis: \n\nDovolujeme si Vám předat poz
 vání na Food Taipei Mega Shows 2025\, které se konají v Taipei Nangang
  Exhibition Center od 25. do 28. června 2025. Souběžně se zde konají 
 veletrhy\, které se zaměřují na různé oblasti potravinářského pr
 ůmyslu. Aktuální informace naleznete na jejich příslušných webovýc
 h stránkách.\nFOOD TAIPEI (Mezinárodní potravinářská výstava v T
 chajpeji - company profile zde) s následujícím zaměřením:\nčerstvé
  ovoce a zelenina\, konzervované ovoce a zelenina\, drůbež\, mořské p
 lody\, maso a zpracované masné výrobky\, jedlé oleje\, mléčné výro
 bky\, biopotraviny a vegetariánské potraviny\, mražené polotovary\, ko
 nzervované potraviny\, pečené potraviny\, sušenky\, víno a likéry\, 
 káva a čaj\, džusy a nealkoholické nápoje\, ochucovadla (koření\, o
 máčky) a cukrovinky\, zmrzlina\nhttps://www.foodtaipei.com.tw/en/index.h
 tml\nFOODTECH TAIPEI (Mezinárodní výstava potravinářských strojů v
  Tchajpeji - company profile zde) s následujícím zaměřením:\nzaříz
 ení\, komponenty a technologie pro zpracování a skladování potravin a
  nápojů\nhttps://www.foodtech.com.tw/en/index.html\nTAIPEI PACK (Mezin
 árodní výstava obalového průmyslu v Tchajpeji - company profile zde) 
 s následujícím zaměřením:\nbalicí stroje a materiály\, plnicí/tě
 snicí/vážicí stroje\, zařízení pro kontrolu materiálu\, vakuové b
 alicí stroje\, papírové a kartonové obaly\nhttps://www.taipeipack.com.
 tw/en/index.html\nTAIWAN HORECA (Mezinárodní výstava hotelů\, restaur
 ací a cateringu na Tchaj-wanu - company profile zde) s následujícím za
 měřením:\nzařízení a příslušenství pro stravování v hotelech a
  restauracích\, zařízení pro likvidaci a sanitaci v potravinářském 
 průmyslu\, nádobí a kuchyňské potřeby\, pokladní/objednávkový sys
 tém pro restaurace\, vybavení a služby prádelen\, chladicí zařízen
 í\, chytré gastronomické vybavení\nhttps://www.taiwanhoreca.com.tw/en/
 index.html\nNa podporu účasti na tomto veletrhu nabízíme následujíc
 í pobídkové balíčky. Upozorňujeme\, že nabídky platí do vyčerpá
 ní finančního rozpočtu a balíčky jsou poskytovány podle pořadí p
 řijetí přihlášky. Pro registraci a podání pobídkové přihlášky 
 vyplňte prosím výše přiložený formulář "company profile" a zašle
 te jej na emailovou adresu czech@sa.moea.gov.tw nebo cztwec01@sa.moea.org.
 tw\n- FoodTaipei\nPro další informace využijte následující kontakt:\
 nMichaela Orságová\nEkonomické oddělení\nTchajpejská hospodářská 
 a kulturní kancelář v Praze\nTel.: (+420) 234 722 021\n
URL:https://www.spcr.cz/food-taipei-mega-shows-2025
DTSTART:20250625T000000
DTEND:20250628T235959
LOCATION:
END:VEVENT
END:VCALENDAR
