BEGIN:VCALENDAR
PRODID:-//eluceo/ical//2.0/EN
VERSION:2.0
CALSCALE:GREGORIAN
BEGIN:VEVENT
UID:21d7aefc2ef2c9f0b43276caced5d22f
DTSTAMP:20260423T145923Z
SUMMARY:Příčiny požárů a jejich prevence z pohledu profesionálního 
 hasiče
DESCRIPTION:Název akce: Příčiny požárů a jejich prevence z pohledu p
 rofesionálního hasiče\nURL: https://www.spcr.cz/priciny-pozaru-jejich-p
 revence-z-pohledu-profesionalniho-hasice\nPopis: \n\nSvaz průmyslu a dopr
 avy České republiky\, Okresní hospodářská komora Liberec\, Krajská 
 nemocnice Liberec a Spolek pro rozvoj lidských zdrojů Liberec vás srde
 čně zvou na seminář Příčiny požárů a jejich prevence z pohledu p
 rofesionálního hasičePROGRAM08:15 - 08:30 - Registrace účastníků 0
 8:30 - 08:35 - Úvodní slovo – představení 08:35 - 09:05 - Nejčast
 ější příčiny požárů v průmyslu Elektrický zkrat\, přehřátí 
 strojů a selhání výrobních linek Statická elektřina – vznik a pr
 evence Lidská chyba – špatná manipulace\, otevřený oheň\, sváře
 ní 09:05 - 09:35 - Skladování hořlavých materiálů a jejich prevenc
 e Umístění hořlavin a bezpečné skladování Prevence požárů – o
 značování\, školení\, údržba 09:35 - 10:05 - PHP použití tříd
 y požáru hasební schopnost správné hašení možnosti 10:05 - 10:35 
 - Hasební prostředek - deka FOGA 10:35 - 10:55 - Přestávka 10:55 - 1
 1:35 - Zásah hasičů a krizová komunikace během požáru Informovanost
  a plány DZP (evakuační cesty\, hydranty\, sklad hořlavin) Specifika 
 zásahů u novějších technologií (Li-ion baterie) - Systém Cobra a te
 rmokamery Spolupráce s hasiči a sdílení informací s OZO v PO Komunik
 ace mezi zaměstnanci\, vedením firmy a hasiči PBZ 11:35 - 12:15 - Disk
 uze\, závěrREGISTRACERegistrace: Na seminář se\, prosím\, registrujte
  ZDE nejpozději do pátku 7. 2. 2025.CENA: 2400\,- Kč (+ DPH) / 1900\,- 
 Kč (+ DPH) pro členy Krajské hospodářské komory KHK\, OHK Liberec\, 
 SP ČR nebo Spolku pro rozvoj LZ LBC PŘEDNÁŠEJÍCÍMilan Zavřel – P
 rofesionální hasič a lektor požární ochrany- je profesionální hasi
 č s více než 17letou praxí\, vždy nasazený přímo do akce při ře
 šení mimořádných událostí. Dovzdělal se na odborně způsobilou os
 obu v požární ochraně a lektora dalšího vzdělávání. Věnuje se v
 zdělávání dospělých již druhým rokem a děti školí v oblasti po
 žární prevence více než 8 let. Ve svých školeních kombinuje teoret
 ické znalosti s praktickými cvičeními\, tím účastníkům poskytuje 
 realistický a přínosný pohled na požární bezpečnost a prevenci.\n
URL:https://www.spcr.cz/priciny-pozaru-jejich-prevence-z-pohledu-profesiona
 lniho-hasice
DTSTART:20250213T083000
DTEND:20250213T121500
LOCATION:Krajská nemocnice Liberec Husova 357/10\, Liberec - Přednáškov
 ý sál pavilon “P”
END:VEVENT
END:VCALENDAR
